BEGIN:VCALENDAR
VERSION:2.0
PRODID:icalendar-ruby
CALSCALE:GREGORIAN
BEGIN:VEVENT
DTSTAMP:20260420T165501Z
UID:a598cd2c-7bc0-4143-8045-a0782190fc30
DTSTART;VALUE=DATE:20240801
DESCRIPTION:Property ID# 578226\, Locatoin: 98 Moorhouse Avenue (unless sol
 d prior)\, Time: 11:00AM
SUMMARY:Auction for 
END:VEVENT
END:VCALENDAR
