BEGIN:VCALENDAR
VERSION:2.0
PRODID:icalendar-ruby
CALSCALE:GREGORIAN
BEGIN:VEVENT
DTSTAMP:20260424T102928Z
UID:8fd04bc9-2621-4d83-9c84-75faea6a3b07
DTSTART;VALUE=DATE:20231207
DESCRIPTION:Property ID# 565946\, Locatoin: Grenadier House\, 98 Moorhouse 
 Avenue (USP)\, Time: 11:00AM
SUMMARY:Auction for 
END:VEVENT
END:VCALENDAR
