BEGIN:VCALENDAR
VERSION:2.0
PRODID:icalendar-ruby
CALSCALE:GREGORIAN
BEGIN:VEVENT
DTSTAMP:20260420T164823Z
UID:dc03927b-c20e-40de-bb86-d17aa78adcd0
DTSTART;VALUE=DATE:20221201
DESCRIPTION:Property ID# 547316\, Locatoin: Harcourts Grenadier\, 98 Moorho
 use Avenue (unless sold prior)\, Time: 11:00AM
SUMMARY:Auction for 
END:VEVENT
END:VCALENDAR
